BEGIN:VCALENDAR
VERSION:2.0
PRODID:-//Squarespace Inc/Squarespace 6//v6//EN
BEGIN:VEVENT
UID:5760bad02eeb818004187634@squarespace.com
DTSTAMP:20160615T021809Z
DTSTART:20160616T083000Z
DTEND:20160616T113000Z
SUMMARY:Bobby lee
END:VEVENT
END:VCALENDAR
