BEGIN:VCALENDAR
VERSION:2.0
PRODID:-//Squarespace Inc/Squarespace 6//v6//EN
BEGIN:VEVENT
UID:5760ba851d07c0ae9834aff6@squarespace.com
DTSTAMP:20160615T021741Z
DTSTART:20160615T080000Z
DTEND:20160615T110000Z
SUMMARY:Karaoke with Lance
END:VEVENT
END:VCALENDAR
