BEGIN:VCALENDAR
VERSION:2.0
PRODID:-//Squarespace Inc/Squarespace 6//v6//EN
BEGIN:VEVENT
UID:572ae00d8259b562a89ee32f@squarespace.com
DTSTAMP:20160505T055953Z
DTSTART:20160509T070000Z
DTEND:20160509T100000Z
SUMMARY:Texas Holdem
END:VEVENT
END:VCALENDAR
