BEGIN:VCALENDAR
VERSION:2.0
PRODID:-//Squarespace Inc/Squarespace 6//v6//EN
BEGIN:VEVENT
UID:56f5eb9a4c2f85218acea20e@squarespace.com
DTSTAMP:20160326T015504Z
DTSTART:20160507T093000Z
DTEND:20160507T130000Z
SUMMARY:Flat City Brotherhood
END:VEVENT
END:VCALENDAR
