BEGIN:VCALENDAR
VERSION:2.0
PRODID:-//Squarespace Inc/Squarespace 6//v6//EN
BEGIN:VEVENT
UID:56f5eb66c2ea5119892de0f3@squarespace.com
DTSTAMP:20160326T015315Z
DTSTART:20160506T093000Z
DTEND:20160506T130000Z
SUMMARY:Hot Gossip
END:VEVENT
END:VCALENDAR
