BEGIN:VCALENDAR
VERSION:2.0
PRODID:-//Squarespace Inc/Squarespace 6//v6//EN
BEGIN:VEVENT
UID:572ae169a3360c14c83cd403@squarespace.com
DTSTAMP:20160505T063954Z
DTSTART:20160510T073000Z
DTEND:20160510T100000Z
SUMMARY:Quiz Night
END:VEVENT
END:VCALENDAR
