BEGIN:VCALENDAR
VERSION:2.0
PRODID:-//Squarespace Inc/Squarespace 6//v6//EN
BEGIN:VEVENT
UID:56f5eb19cf80a1d5ad23c804@squarespace.com
DTSTAMP:20160326T015201Z
DTSTART:20160505T083000Z
DTEND:20160505T113000Z
SUMMARY:Bobby Lee
END:VEVENT
END:VCALENDAR
