BEGIN:VCALENDAR
VERSION:2.0
PRODID:-//Squarespace Inc/Squarespace 6//v6//EN
BEGIN:VEVENT
UID:56f5e985b2d7c7a56b48e7cb@squarespace.com
DTSTAMP:20160326T015104Z
DTSTART:20160504T080000Z
DTEND:20160504T110000Z
SUMMARY:Karaoke with Lance
END:VEVENT
END:VCALENDAR
