BEGIN:VCALENDAR
VERSION:2.0
PRODID:-//Squarespace Inc/Squarespace 6//v6//EN
BEGIN:VEVENT
UID:572aedcdd51cd4ca5c353846@squarespace.com
DTSTAMP:20160505T065334Z
DTSTART:20160531T073000Z
DTEND:20160531T100000Z
SUMMARY:Quiz Night
END:VEVENT
END:VCALENDAR
