BEGIN:VCALENDAR
VERSION:2.0
PRODID:-//Squarespace Inc/Squarespace 6//v6//EN
BEGIN:VEVENT
UID:572aed9b1bbee0f4e8ce47f9@squarespace.com
DTSTAMP:20160505T065243Z
DTSTART:20160530T070000Z
DTEND:20160530T100000Z
SUMMARY:Texas Holdem
END:VEVENT
END:VCALENDAR
