BEGIN:VCALENDAR
VERSION:2.0
PRODID:-//Squarespace Inc/Squarespace 6//v6//EN
BEGIN:VEVENT
UID:56f5e962cf80a1d5ad23c0c0@squarespace.com
DTSTAMP:20160326T014422Z
DTSTART:20160503T070000Z
DTEND:20160503T110000Z
SUMMARY:Quiz Night
END:VEVENT
END:VCALENDAR
