BEGIN:VCALENDAR
VERSION:2.0
PRODID:-//Squarespace Inc/Squarespace 6//v6//EN
BEGIN:VEVENT
UID:572adfa9b654f9ab18b2be97@squarespace.com
DTSTAMP:20160505T055353Z
DTSTART:20160528T093000Z
DTEND:20160528T130000Z
SUMMARY:Dont Tell Mama
END:VEVENT
END:VCALENDAR
