BEGIN:VCALENDAR
VERSION:2.0
PRODID:-//Squarespace Inc/Squarespace 6//v6//EN
BEGIN:VEVENT
UID:572adf48ab48deef057637ee@squarespace.com
DTSTAMP:20160505T055227Z
DTSTART:20160527T093000Z
DTEND:20160527T130000Z
SUMMARY:Flat City Brotherhood
END:VEVENT
END:VCALENDAR
