BEGIN:VCALENDAR
VERSION:2.0
PRODID:-//Squarespace Inc/Squarespace 6//v6//EN
BEGIN:VEVENT
UID:572aed732eeb81370a160e1a@squarespace.com
DTSTAMP:20160505T065201Z
DTSTART:20160526T083000Z
DTEND:20160526T113000Z
SUMMARY:Nick Lee
END:VEVENT
END:VCALENDAR
