BEGIN:VCALENDAR
VERSION:2.0
PRODID:-//Squarespace Inc/Squarespace 6//v6//EN
BEGIN:VEVENT
UID:572aed47d51cd4ca5c353647@squarespace.com
DTSTAMP:20160505T065121Z
DTSTART:20160525T080000Z
DTEND:20160525T110000Z
SUMMARY:Karaoke With Lance
END:VEVENT
END:VCALENDAR
