BEGIN:VCALENDAR
VERSION:2.0
PRODID:-//Squarespace Inc/Squarespace 6//v6//EN
BEGIN:VEVENT
UID:572aed153c44d82f780fb708@squarespace.com
DTSTAMP:20160505T065036Z
DTSTART:20160524T073000Z
DTEND:20160524T100000Z
SUMMARY:Quiz Night
END:VEVENT
END:VCALENDAR
