BEGIN:VCALENDAR
VERSION:2.0
PRODID:-//Squarespace Inc/Squarespace 6//v6//EN
BEGIN:VEVENT
UID:572aece94c2f8564c3818b87@squarespace.com
DTSTAMP:20160505T064940Z
DTSTART:20160523T070000Z
DTEND:20160523T100000Z
SUMMARY:Texas Holdem
END:VEVENT
END:VCALENDAR
