BEGIN:VCALENDAR
VERSION:2.0
PRODID:-//Squarespace Inc/Squarespace 6//v6//EN
BEGIN:VEVENT
UID:572addb49f7266c7a0199b9a@squarespace.com
DTSTAMP:20160505T054953Z
DTSTART:20160521T093000Z
DTEND:20160521T130000Z
SUMMARY:Absolut
END:VEVENT
END:VCALENDAR
