BEGIN:VCALENDAR
VERSION:2.0
PRODID:-//Squarespace Inc/Squarespace 6//v6//EN
BEGIN:VEVENT
UID:572add599f7266c7a0199a30@squarespace.com
DTSTAMP:20160505T055016Z
DTSTART:20160520T093000Z
DTEND:20160520T130000Z
SUMMARY:Tri Zone
END:VEVENT
END:VCALENDAR
