BEGIN:VCALENDAR
VERSION:2.0
PRODID:-//Squarespace Inc/Squarespace 6//v6//EN
BEGIN:VEVENT
UID:56f5e93db2d7c7a56b48e6d2@squarespace.com
DTSTAMP:20160326T014346Z
DTSTART:20160502T070000Z
DTEND:20160502T100000Z
SUMMARY:Texas Holdem
END:VEVENT
END:VCALENDAR
