BEGIN:VCALENDAR
VERSION:2.0
PRODID:-//Squarespace Inc/Squarespace 6//v6//EN
BEGIN:VEVENT
UID:572aec3af699bb2283a13ade@squarespace.com
DTSTAMP:20160505T064712Z
DTSTART:20160519T083000Z
DTEND:20160519T113000Z
SUMMARY:Bobby Lee
END:VEVENT
END:VCALENDAR
