BEGIN:VCALENDAR
VERSION:2.0
PRODID:-//Squarespace Inc/Squarespace 6//v6//EN
BEGIN:VEVENT
UID:572aec09746fb9e003349bb2@squarespace.com
DTSTAMP:20160505T064606Z
DTSTART:20160518T080000Z
DTEND:20160518T110000Z
SUMMARY:Karaoke With Lance
END:VEVENT
END:VCALENDAR
