BEGIN:VCALENDAR
VERSION:2.0
PRODID:-//Squarespace Inc/Squarespace 6//v6//EN
BEGIN:VEVENT
UID:572aeb95b6aa60527b8b6fc4@squarespace.com
DTSTAMP:20160505T064513Z
DTSTART:20160517T073000Z
DTEND:20160517T100000Z
SUMMARY:Quiz Night
END:VEVENT
END:VCALENDAR
