BEGIN:VCALENDAR
VERSION:2.0
PRODID:-//Squarespace Inc/Squarespace 6//v6//EN
BEGIN:VEVENT
UID:572aeb46746fb9e003349926@squarespace.com
DTSTAMP:20160505T064322Z
DTSTART:20160516T070000Z
DTEND:20160516T100000Z
SUMMARY:Texas Holdem
END:VEVENT
END:VCALENDAR
