BEGIN:VCALENDAR
VERSION:2.0
PRODID:-//Squarespace Inc/Squarespace 6//v6//EN
BEGIN:VEVENT
UID:572adabee3214012ea2a820c@squarespace.com
DTSTAMP:20160505T053328Z
DTSTART:20160514T093000Z
DTEND:20160514T130000Z
SUMMARY:Unhinged
END:VEVENT
END:VCALENDAR
