BEGIN:VCALENDAR
VERSION:2.0
PRODID:-//Squarespace Inc/Squarespace 6//v6//EN
BEGIN:VEVENT
UID:572ada23d210b8f3ebfdd664@squarespace.com
DTSTAMP:20160505T053128Z
DTSTART:20160513T093000Z
DTEND:20160513T130000Z
SUMMARY:Reckless Duo
END:VEVENT
END:VCALENDAR
