BEGIN:VCALENDAR
VERSION:2.0
PRODID:-//Squarespace Inc/Squarespace 6//v6//EN
BEGIN:VEVENT
UID:572ae38f356fb0e8882c04b7@squarespace.com
DTSTAMP:20160505T061118Z
DTSTART:20160512T083000Z
DTEND:20160512T113000Z
SUMMARY:Nick Lee
END:VEVENT
END:VCALENDAR
