BEGIN:VCALENDAR
VERSION:2.0
PRODID:-//Squarespace Inc/Squarespace 6//v6//EN
BEGIN:VEVENT
UID:56f5dd2e1bbee0efeffa65f9@squarespace.com
DTSTAMP:20160326T005227Z
DTSTART:20160409T093000Z
DTEND:20160409T130000Z
SUMMARY:Reckless Duo
END:VEVENT
END:VCALENDAR
