BEGIN:VCALENDAR
VERSION:2.0
PRODID:-//Squarespace Inc/Squarespace 6//v6//EN
BEGIN:VEVENT
UID:56f5dc6840261d41418122d0@squarespace.com
DTSTAMP:20160326T005047Z
DTSTART:20160408T093000Z
DTEND:20160408T130000Z
SUMMARY:Tri Zone
END:VEVENT
END:VCALENDAR
