BEGIN:VCALENDAR
VERSION:2.0
PRODID:-//Squarespace Inc/Squarespace 6//v6//EN
BEGIN:VEVENT
UID:56f5daf45f43a67e1229ee74@squarespace.com
DTSTAMP:20160326T004528Z
DTSTART:20160406T070000Z
DTEND:20160406T110000Z
SUMMARY:Karaoke with Lance
END:VEVENT
END:VCALENDAR
