BEGIN:VCALENDAR
VERSION:2.0
PRODID:-//Squarespace Inc/Squarespace 6//v6//EN
BEGIN:VEVENT
UID:56f5dacc0bb4eb7999c9b801@squarespace.com
DTSTAMP:20160326T004212Z
DTSTART:20160405T070000Z
DTEND:20160405T100000Z
SUMMARY:Quiz Night
END:VEVENT
END:VCALENDAR
