BEGIN:VCALENDAR
VERSION:2.0
PRODID:-//Squarespace Inc/Squarespace 6//v6//EN
BEGIN:VEVENT
UID:56f5daa0f8baf33251b361ed@squarespace.com
DTSTAMP:20160326T004131Z
DTSTART:20160404T070000Z
DTEND:20160404T100000Z
SUMMARY:Texas Holdem
END:VEVENT
END:VCALENDAR
