BEGIN:VCALENDAR
VERSION:2.0
PRODID:-//Squarespace Inc/Squarespace 6//v6//EN
BEGIN:VEVENT
UID:56f5e4df3c44d8fc598df543@squarespace.com
DTSTAMP:20160326T012627Z
DTSTART:20160430T093000Z
DTEND:20160430T130000Z
SUMMARY:Absolut
END:VEVENT
END:VCALENDAR
