BEGIN:VCALENDAR
VERSION:2.0
PRODID:-//Squarespace Inc/Squarespace 6//v6//EN
BEGIN:VEVENT
UID:56f5e48022482e2318726c8c@squarespace.com
DTSTAMP:20160326T012430Z
DTSTART:20160429T093000Z
DTEND:20160429T130000Z
SUMMARY:Tri Zone
END:VEVENT
END:VCALENDAR
