BEGIN:VCALENDAR
VERSION:2.0
PRODID:-//Squarespace Inc/Squarespace 6//v6//EN
BEGIN:VEVENT
UID:56f5e3f562cd94c30a0494a8@squarespace.com
DTSTAMP:20160326T012116Z
DTSTART:20160428T083000Z
DTEND:20160428T113000Z
SUMMARY:Nick Lee
END:VEVENT
END:VCALENDAR
