BEGIN:VCALENDAR
VERSION:2.0
PRODID:-//Squarespace Inc/Squarespace 6//v6//EN
BEGIN:VEVENT
UID:56f5e3ce45bf21207cc76a5b@squarespace.com
DTSTAMP:20160326T012036Z
DTSTART:20160427T080000Z
DTEND:20160427T110000Z
SUMMARY:Karaoke with Lance
END:VEVENT
END:VCALENDAR
