BEGIN:VCALENDAR
VERSION:2.0
PRODID:-//Squarespace Inc/Squarespace 6//v6//EN
BEGIN:VEVENT
UID:56f5e39e5559866730bf5d6d@squarespace.com
DTSTAMP:20160326T011955Z
DTSTART:20160426T070000Z
DTEND:20160426T110000Z
SUMMARY:Quiz Night
END:VEVENT
END:VCALENDAR
