BEGIN:VCALENDAR
VERSION:2.0
PRODID:-//Squarespace Inc/Squarespace 6//v6//EN
BEGIN:VEVENT
UID:56f5e376b09f955f053200bc@squarespace.com
DTSTAMP:20160326T011909Z
DTSTART:20160425T070000Z
DTEND:20160425T100000Z
SUMMARY:Texas Holdem
END:VEVENT
END:VCALENDAR
