BEGIN:VCALENDAR
VERSION:2.0
PRODID:-//Squarespace Inc/Squarespace 6//v6//EN
BEGIN:VEVENT
UID:56f5e32817110775128a6bd4@squarespace.com
DTSTAMP:20160326T011821Z
DTSTART:20160423T093000Z
DTEND:20160423T130000Z
SUMMARY:A & P Show. Staring Anthony & Pete
END:VEVENT
END:VCALENDAR
