BEGIN:VCALENDAR
VERSION:2.0
PRODID:-//Squarespace Inc/Squarespace 6//v6//EN
BEGIN:VEVENT
UID:56f5e2da45bf21207cc76664@squarespace.com
DTSTAMP:20160326T011643Z
DTSTART:20160422T093000Z
DTEND:20160422T130000Z
SUMMARY:Don't tell Mama
END:VEVENT
END:VCALENDAR
