BEGIN:VCALENDAR
VERSION:2.0
PRODID:-//Squarespace Inc/Squarespace 6//v6//EN
BEGIN:VEVENT
UID:56f5e2b845bf21207cc765f0@squarespace.com
DTSTAMP:20160326T011553Z
DTSTART:20160421T083000Z
DTEND:20160421T113000Z
SUMMARY:Bobby Lee
END:VEVENT
END:VCALENDAR
