BEGIN:VCALENDAR
VERSION:2.0
PRODID:-//Squarespace Inc/Squarespace 6//v6//EN
BEGIN:VEVENT
UID:56f5e27a4d088edae52af50f@squarespace.com
DTSTAMP:20160326T011452Z
DTSTART:20160420T080000Z
DTEND:20160420T110000Z
SUMMARY:Karaoke with Lance
END:VEVENT
END:VCALENDAR
