BEGIN:VCALENDAR
VERSION:2.0
PRODID:-//Squarespace Inc/Squarespace 6//v6//EN
BEGIN:VEVENT
UID:56f5e73fb09f955f05320fa2@squarespace.com
DTSTAMP:20160326T014154Z
DTSTART:20160402T073000Z
DTEND:20160402T110000Z
SUMMARY:Decoy Duck
END:VEVENT
END:VCALENDAR
