BEGIN:VCALENDAR
VERSION:2.0
PRODID:-//Squarespace Inc/Squarespace 6//v6//EN
BEGIN:VEVENT
UID:56f5e2554d088edae52af484@squarespace.com
DTSTAMP:20160326T011420Z
DTSTART:20160419T070000Z
DTEND:20160419T110000Z
SUMMARY:Quiz Night
END:VEVENT
END:VCALENDAR
