BEGIN:VCALENDAR
VERSION:2.0
PRODID:-//Squarespace Inc/Squarespace 6//v6//EN
BEGIN:VEVENT
UID:56f5e219f8baf33251b37ff6@squarespace.com
DTSTAMP:20160326T011341Z
DTSTART:20160418T070000Z
DTEND:20160418T100000Z
SUMMARY:Texas Holdem
END:VEVENT
END:VCALENDAR
