BEGIN:VCALENDAR
VERSION:2.0
PRODID:-//Squarespace Inc/Squarespace 6//v6//EN
BEGIN:VEVENT
UID:56f5e06fd51cd425512bb31c@squarespace.com
DTSTAMP:20160326T011229Z
DTSTART:20160416T093000Z
DTEND:20160416T130000Z
SUMMARY:Old School
END:VEVENT
END:VCALENDAR
