BEGIN:VCALENDAR
VERSION:2.0
PRODID:-//Squarespace Inc/Squarespace 6//v6//EN
BEGIN:VEVENT
UID:56f5e041f85082318c49a372@squarespace.com
DTSTAMP:20160326T010537Z
DTSTART:20160415T093000Z
DTEND:20160415T130000Z
SUMMARY:Flat City Brotherhood
END:VEVENT
END:VCALENDAR
