BEGIN:VCALENDAR
VERSION:2.0
PRODID:-//Squarespace Inc/Squarespace 6//v6//EN
BEGIN:VEVENT
UID:56f5ddb11bbee0efeffa6828@squarespace.com
DTSTAMP:20160326T005433Z
DTSTART:20160413T080000Z
DTEND:20160413T110000Z
SUMMARY:Karaoke with Lance
END:VEVENT
END:VCALENDAR
