BEGIN:VCALENDAR
VERSION:2.0
PRODID:-//Squarespace Inc/Squarespace 6//v6//EN
BEGIN:VEVENT
UID:56f5dd871bbee0efeffa6767@squarespace.com
DTSTAMP:20160326T005355Z
DTSTART:20160412T070000Z
DTEND:20160412T110000Z
SUMMARY:Quiz Night
END:VEVENT
END:VCALENDAR
