BEGIN:VCALENDAR
VERSION:2.0
PRODID:-//Squarespace Inc/Squarespace 6//v6//EN
BEGIN:VEVENT
UID:56f5dd5e1bbee0efeffa66b9@squarespace.com
DTSTAMP:20160326T005311Z
DTSTART:20160411T070000Z
DTEND:20160411T100000Z
SUMMARY:Texas Holdem
END:VEVENT
END:VCALENDAR
